BEGIN:VCALENDAR
VERSION:2.0
PRODID:icalendar-ruby
CALSCALE:GREGORIAN
BEGIN:VEVENT
DTSTAMP:20210122T021407Z
UID:5f86dc26-e7bc-477b-959c-391a2d492eef
DTSTART;TZID=Pacific/Auckland:20210124T103000
DTEND;TZID=Pacific/Auckland:20210124T110000
DESCRIPTION:Property ID# 499446
SUMMARY:Openhome for 12 Tangaroa Street
END:VEVENT
END:VCALENDAR
