BEGIN:VCALENDAR
VERSION:2.0
PRODID:icalendar-ruby
CALSCALE:GREGORIAN
BEGIN:VEVENT
DTSTAMP:20210122T021134Z
UID:4e0e1145-3883-417f-8f52-535a2f4ece4e
DTSTART;TZID=Pacific/Auckland:20210123T123000
DTEND;TZID=Pacific/Auckland:20210123T130000
DESCRIPTION:Property ID# 499105
SUMMARY:Openhome for 10 Waterloo Place
END:VEVENT
END:VCALENDAR
