BEGIN:VCALENDAR
VERSION:2.0
PRODID:icalendar-ruby
CALSCALE:GREGORIAN
BEGIN:VEVENT
DTSTAMP:20210122T021412Z
UID:77900160-ca16-4feb-a702-f7e387fb7295
DTSTART;TZID=Pacific/Auckland:20210124T140000
DTEND;TZID=Pacific/Auckland:20210124T143000
DESCRIPTION:Property ID# 499621
SUMMARY:Openhome for 9 Rawhiti Street
END:VEVENT
END:VCALENDAR
