BEGIN:VCALENDAR
VERSION:2.0
PRODID:icalendar-ruby
CALSCALE:GREGORIAN
BEGIN:VEVENT
DTSTAMP:20210122T021131Z
UID:bc7455c0-422e-404c-92fd-e83c99f9253f
DTSTART;TZID=Pacific/Auckland:20210124T130000
DTEND;TZID=Pacific/Auckland:20210124T133000
DESCRIPTION:Property ID# 499276
SUMMARY:Openhome for 17B Clawton Street
END:VEVENT
END:VCALENDAR
