BEGIN:VCALENDAR
VERSION:2.0
PRODID:icalendar-ruby
CALSCALE:GREGORIAN
BEGIN:VEVENT
DTSTAMP:20210119T053733Z
UID:9a0ce43c-0d47-4617-aab0-0b9bee521a17
DTSTART;VALUE=DATE:20200904
DESCRIPTION:Property ID# 487434\, Locatoin: In Rooms\, 219 Devon Street Eas
 t\, Time: 4:30PM
SUMMARY:Auction for 
END:VEVENT
END:VCALENDAR
