BEGIN:VCALENDAR
VERSION:2.0
PRODID:icalendar-ruby
CALSCALE:GREGORIAN
BEGIN:VEVENT
DTSTAMP:20210119T053738Z
UID:ede16b35-0539-4543-b419-c155bb862ae8
DTSTART;VALUE=DATE:20200905
DESCRIPTION:Property ID# 486838\, Locatoin: On Site\, Time: 12:00PM
SUMMARY:Auction for 
END:VEVENT
END:VCALENDAR
