BEGIN:VCALENDAR
VERSION:2.0
PRODID:icalendar-ruby
CALSCALE:GREGORIAN
BEGIN:VEVENT
DTSTAMP:20210119T053740Z
UID:d79bbc84-cfa6-4d66-8d4f-3586ecb17585
DTSTART;VALUE=DATE:20200610
DESCRIPTION:Property ID# 481113\, Time: 4:00PM
SUMMARY:Auction for 
END:VEVENT
END:VCALENDAR
