BEGIN:VCALENDAR
VERSION:2.0
PRODID:icalendar-ruby
CALSCALE:GREGORIAN
BEGIN:VEVENT
DTSTAMP:20210119T053741Z
UID:f420be93-88e6-4c28-8c4b-ce16fcf036db
DTSTART;VALUE=DATE:20200131
DESCRIPTION:Property ID# 470243\, Locatoin: In-rooms\, 219 Devon Street Eas
 t\, New Plymouth Central\, Time: 12:00PM
SUMMARY:Auction for 
END:VEVENT
END:VCALENDAR
