BEGIN:VCALENDAR
VERSION:2.0
PRODID:icalendar-ruby
CALSCALE:GREGORIAN
BEGIN:VEVENT
DTSTAMP:20210119T053743Z
UID:a0c6eb15-58aa-48b4-ac30-dc5d03a73290
DTSTART;VALUE=DATE:20191205
DESCRIPTION:Property ID# 466893\, Locatoin: On-site at 7 Pendarves Street\,
  Time: 6:00PM
SUMMARY:Auction for 
END:VEVENT
END:VCALENDAR
