BEGIN:VCALENDAR
VERSION:2.0
PRODID:icalendar-ruby
CALSCALE:GREGORIAN
BEGIN:VEVENT
DTSTAMP:20210119T053745Z
UID:88372207-bf4b-4137-a439-3b68459b4c00
DTSTART;VALUE=DATE:20191127
DESCRIPTION:Property ID# 466449\, Time: 4:00PM
SUMMARY:Auction for 
END:VEVENT
END:VCALENDAR
